BEGIN:VCALENDAR
VERSION:2.0
PRODID:-//Washington State Historical Society - ECPv6.15.20//NONSGML v1.0//EN
CALSCALE:GREGORIAN
METHOD:PUBLISH
X-ORIGINAL-URL:https://america250wa.org
X-WR-CALDESC:Events for Washington State Historical Society
REFRESH-INTERVAL;VALUE=DURATION:PT1H
X-Robots-Tag:noindex
X-PUBLISHED-TTL:PT1H
BEGIN:VTIMEZONE
TZID:America/Los_Angeles
BEGIN:DAYLIGHT
TZOFFSETFROM:-0800
TZOFFSETTO:-0700
TZNAME:PDT
DTSTART:20250309T100000
END:DAYLIGHT
BEGIN:STANDARD
TZOFFSETFROM:-0700
TZOFFSETTO:-0800
TZNAME:PST
DTSTART:20251102T090000
END:STANDARD
BEGIN:DAYLIGHT
TZOFFSETFROM:-0800
TZOFFSETTO:-0700
TZNAME:PDT
DTSTART:20260308T100000
END:DAYLIGHT
BEGIN:STANDARD
TZOFFSETFROM:-0700
TZOFFSETTO:-0800
TZNAME:PST
DTSTART:20261101T090000
END:STANDARD
BEGIN:DAYLIGHT
TZOFFSETFROM:-0800
TZOFFSETTO:-0700
TZNAME:PDT
DTSTART:20270314T100000
END:DAYLIGHT
BEGIN:STANDARD
TZOFFSETFROM:-0700
TZOFFSETTO:-0800
TZNAME:PST
DTSTART:20271107T090000
END:STANDARD
END:VTIMEZONE
BEGIN:VEVENT
DTSTART;TZID=America/Los_Angeles:20260808T110000
DTEND;TZID=America/Los_Angeles:20260808T160000
DTSTAMP:20260421T052850
CREATED:20260330T180920Z
LAST-MODIFIED:20260330T180920Z
UID:10000144-1786186800-1786204800@america250wa.org
SUMMARY:Woodinville Heritage Society
DESCRIPTION:FREE ADMISSION
URL:https://america250wa.org/event/woodinville-heritage-society/
LOCATION:Woodinville Heritage Society\, 14121 NE 171st Street\, Woodinville\, WA\, 98072\, United States
CATEGORIES:Community Gathering
GEO:47.7512947;-122.150423
X-APPLE-STRUCTURED-LOCATION;VALUE=URI;X-ADDRESS=Woodinville Heritage Society 14121 NE 171st Street Woodinville WA 98072 United States;X-APPLE-RADIUS=500;X-TITLE=14121 NE 171st Street:geo:-122.150423,47.7512947
END:VEVENT
END:VCALENDAR