BEGIN:VCALENDAR
VERSION:2.0
PRODID:-//Washington State Historical Society - ECPv6.15.20//NONSGML v1.0//EN
CALSCALE:GREGORIAN
METHOD:PUBLISH
X-ORIGINAL-URL:https://america250wa.org
X-WR-CALDESC:Events for Washington State Historical Society
REFRESH-INTERVAL;VALUE=DURATION:PT1H
X-Robots-Tag:noindex
X-PUBLISHED-TTL:PT1H
BEGIN:VTIMEZONE
TZID:America/Los_Angeles
BEGIN:DAYLIGHT
TZOFFSETFROM:-0800
TZOFFSETTO:-0700
TZNAME:PDT
DTSTART:20250309T100000
END:DAYLIGHT
BEGIN:STANDARD
TZOFFSETFROM:-0700
TZOFFSETTO:-0800
TZNAME:PST
DTSTART:20251102T090000
END:STANDARD
BEGIN:DAYLIGHT
TZOFFSETFROM:-0800
TZOFFSETTO:-0700
TZNAME:PDT
DTSTART:20260308T100000
END:DAYLIGHT
BEGIN:STANDARD
TZOFFSETFROM:-0700
TZOFFSETTO:-0800
TZNAME:PST
DTSTART:20261101T090000
END:STANDARD
BEGIN:DAYLIGHT
TZOFFSETFROM:-0800
TZOFFSETTO:-0700
TZNAME:PDT
DTSTART:20270314T100000
END:DAYLIGHT
BEGIN:STANDARD
TZOFFSETFROM:-0700
TZOFFSETTO:-0800
TZNAME:PST
DTSTART:20271107T090000
END:STANDARD
END:VTIMEZONE
BEGIN:VEVENT
DTSTART;TZID=America/Los_Angeles:20260502T103000
DTEND;TZID=America/Los_Angeles:20260502T163000
DTSTAMP:20260421T052359
CREATED:20260417T160459Z
LAST-MODIFIED:20260417T160459Z
UID:10000213-1777717800-1777739400@america250wa.org
SUMMARY:Opening Day Cruise
DESCRIPTION:As part of America’s 250th\, join us for our annual parade May 2 through the Montlake Cut to celebrate the opening of boating season in the Pacific Northwest. We’ll salute the officers of the Seattle Yacht Club and see all our fellow boaters out on the water during the parade. Lunch will be provided\, with beer\, wine\, and nonalcoholic options available for purchase. \nItinerary: \nBoarding begins at 10:30 AM\nBoarding Ends: 10:50 AM\nDeparture at 11:00 AM (SHARP)\nReturn at 4:30 PM \nMore details:\nTicket price includes gourmet box lunch ( sandwich\, chips\, cookie\, fruit\, water\, Turkey/avocado sandwich\, Roast beef and cheddar sandwich\, Vegan mediterranian wrap option)
URL:https://america250wa.org/event/opening-day-cruise/
LOCATION:Virginia V\, 217 Thurston Ave NW\, Olympia\, WA\, 98501\, United States
CATEGORIES:Parade
ATTACH;FMTTYPE=image/jpeg:https://america250wa.org/wp-content/uploads/2026/04/1-5.jpeg
ORGANIZER;CN="The Virginia V Foundation":MAILTO:info@virginiav.org
GEO:47.6276176;-122.3365807
X-APPLE-STRUCTURED-LOCATION;VALUE=URI;X-ADDRESS=Virginia V 217 Thurston Ave NW Olympia WA 98501 United States;X-APPLE-RADIUS=500;X-TITLE=217 Thurston Ave NW:geo:-122.3365807,47.6276176
END:VEVENT
BEGIN:VEVENT
DTSTART;TZID=America/Los_Angeles:20260509T120000
DTEND;TZID=America/Los_Angeles:20260509T133000
DTSTAMP:20260421T052359
CREATED:20260417T160537Z
LAST-MODIFIED:20260417T160537Z
UID:10000214-1778328000-1778333400@america250wa.org
SUMMARY:Olympia Harbor Cruise
DESCRIPTION:As part of America’s 250th\, step aboard for a refreshing midday escape on the beautiful waters of Olympia this May 9! Boarding begins at 11:30 AM\, and our 12:00–1:15 PM harbour cruise invites you to unwind with stunning views\, easygoing vibes\, and a welcoming snack and beverage bar. It’s the perfect outing for families—$28 for adults and $10 for kids 10 and under. \nDid you know we are in Olympia during the Olympia Wooden Boat Festival?! You should check it out! https://www.olympiawoodenboat.org/
URL:https://america250wa.org/event/olympia-harbor-cruise/
LOCATION:Virginia V\, 217 Thurston Ave NW\, Olympia\, WA\, 98501\, United States
CATEGORIES:Educational Program
ATTACH;FMTTYPE=image/jpeg:https://america250wa.org/wp-content/uploads/2026/04/virginia-v-ed-photo-scaled.jpg
GEO:47.6276176;-122.3365807
X-APPLE-STRUCTURED-LOCATION;VALUE=URI;X-ADDRESS=Virginia V 217 Thurston Ave NW Olympia WA 98501 United States;X-APPLE-RADIUS=500;X-TITLE=217 Thurston Ave NW:geo:-122.3365807,47.6276176
END:VEVENT
BEGIN:VEVENT
DTSTART;TZID=America/Los_Angeles:20260509T140000
DTEND;TZID=America/Los_Angeles:20260509T153000
DTSTAMP:20260421T052359
CREATED:20260417T160610Z
LAST-MODIFIED:20260417T160610Z
UID:10000215-1778335200-1778340600@america250wa.org
SUMMARY:Olympia Harbor Cruise
DESCRIPTION:As part of America’s 250th\, step aboard for a refreshing afternoon escape on the beautiful waters of Olympia this May 9! Boarding begins at 1:30 PM\, and our 2:00–3:15 PM harbour cruise invites you to unwind with stunning views\, easygoing vibes\, and a welcoming snack and beverage bar. It’s the perfect outing for families—$28 for adults and $10 for kids 10 and under. Sit back\, enjoy a treat\, and soak in the sights of the South Sound. \nDid you know we are in Olympia for the Olympia Wooden Boat Festival?! Check them out while you’re here! (https://www.olympiawoodenboat.org/).
URL:https://america250wa.org/event/olympia-harbor-cruise-2/
LOCATION:Virginia V\, 217 Thurston Ave NW\, Olympia\, WA\, 98501\, United States
CATEGORIES:Educational Program
ATTACH;FMTTYPE=image/jpeg:https://america250wa.org/wp-content/uploads/2026/04/virginia-v-ed-photo-1-scaled.jpg
GEO:47.6276176;-122.3365807
X-APPLE-STRUCTURED-LOCATION;VALUE=URI;X-ADDRESS=Virginia V 217 Thurston Ave NW Olympia WA 98501 United States;X-APPLE-RADIUS=500;X-TITLE=217 Thurston Ave NW:geo:-122.3365807,47.6276176
END:VEVENT
END:VCALENDAR