BEGIN:VCALENDAR
VERSION:2.0
PRODID:-//Washington State Historical Society - ECPv6.15.20//NONSGML v1.0//EN
CALSCALE:GREGORIAN
METHOD:PUBLISH
X-ORIGINAL-URL:https://america250wa.org
X-WR-CALDESC:Events for Washington State Historical Society
REFRESH-INTERVAL;VALUE=DURATION:PT1H
X-Robots-Tag:noindex
X-PUBLISHED-TTL:PT1H
BEGIN:VTIMEZONE
TZID:America/Los_Angeles
BEGIN:DAYLIGHT
TZOFFSETFROM:-0800
TZOFFSETTO:-0700
TZNAME:PDT
DTSTART:20250309T100000
END:DAYLIGHT
BEGIN:STANDARD
TZOFFSETFROM:-0700
TZOFFSETTO:-0800
TZNAME:PST
DTSTART:20251102T090000
END:STANDARD
BEGIN:DAYLIGHT
TZOFFSETFROM:-0800
TZOFFSETTO:-0700
TZNAME:PDT
DTSTART:20260308T100000
END:DAYLIGHT
BEGIN:STANDARD
TZOFFSETFROM:-0700
TZOFFSETTO:-0800
TZNAME:PST
DTSTART:20261101T090000
END:STANDARD
BEGIN:DAYLIGHT
TZOFFSETFROM:-0800
TZOFFSETTO:-0700
TZNAME:PDT
DTSTART:20270314T100000
END:DAYLIGHT
BEGIN:STANDARD
TZOFFSETFROM:-0700
TZOFFSETTO:-0800
TZNAME:PST
DTSTART:20271107T090000
END:STANDARD
END:VTIMEZONE
BEGIN:VEVENT
DTSTART;TZID=America/Los_Angeles:20260328T140000
DTEND;TZID=America/Los_Angeles:20260328T160000
DTSTAMP:20260421T063827
CREATED:20260121T004305Z
LAST-MODIFIED:20260121T004305Z
UID:10000060-1774706400-1774713600@america250wa.org
SUMMARY:Cherry Blossom Tea: Famous First Ladies
DESCRIPTION:DuPont Historical Society’s beloved annual fundraiser returns with the cherry blossoms in the spring\, with a special theme to mark America’s 250th. Guest historian Alice Miller will present “Famous First Ladies\,” sharing some of their stories and favorite fashions at The Home Course in DuPont\, WA. \nSupport from corporate sponsor Glacier Northwest and local businesses provides guests an entertaining afternoon\, with tea and light fare\, to benefit DuPont Historical Museum. Tickets for raffle prizes will be available. Ages 8 and up\, please. Tea attire suggested\, vintage attire encouraged! \nSeating is limited and advance tickets are required. Discounts are available for Historical Society members and for full tables of 8.  \nFor tickets or more information\, contact 253.459.4339 or duponthistoricalmuseum@gmail.com
URL:https://america250wa.org/event/cherry-blossom-tea-famous-first-ladies/
LOCATION:The Home Course\, 2300 Golf House Rd\, DuPont\, WA\, 98327\, United States
CATEGORIES:Fundraiser
ATTACH;FMTTYPE=image/jpeg:https://america250wa.org/wp-content/uploads/2026/01/Tea-FLYER-2026-45.jpg
ORGANIZER;CN="DuPont Historical Society":MAILTO:duponhistoricalmuseum@gmail.com
GEO:47.1053904;-122.6646225
X-APPLE-STRUCTURED-LOCATION;VALUE=URI;X-ADDRESS=The Home Course 2300 Golf House Rd DuPont WA 98327 United States;X-APPLE-RADIUS=500;X-TITLE=2300 Golf House Rd:geo:-122.6646225,47.1053904
END:VEVENT
END:VCALENDAR