BEGIN:VCALENDAR
VERSION:2.0
PRODID:-//Washington State Historical Society - ECPv6.15.20//NONSGML v1.0//EN
CALSCALE:GREGORIAN
METHOD:PUBLISH
X-WR-CALNAME:Washington State Historical Society
X-ORIGINAL-URL:https://america250wa.org
X-WR-CALDESC:Events for Washington State Historical Society
REFRESH-INTERVAL;VALUE=DURATION:PT1H
X-Robots-Tag:noindex
X-PUBLISHED-TTL:PT1H
BEGIN:VTIMEZONE
TZID:America/Los_Angeles
BEGIN:DAYLIGHT
TZOFFSETFROM:-0800
TZOFFSETTO:-0700
TZNAME:PDT
DTSTART:20250309T100000
END:DAYLIGHT
BEGIN:STANDARD
TZOFFSETFROM:-0700
TZOFFSETTO:-0800
TZNAME:PST
DTSTART:20251102T090000
END:STANDARD
BEGIN:DAYLIGHT
TZOFFSETFROM:-0800
TZOFFSETTO:-0700
TZNAME:PDT
DTSTART:20260308T100000
END:DAYLIGHT
BEGIN:STANDARD
TZOFFSETFROM:-0700
TZOFFSETTO:-0800
TZNAME:PST
DTSTART:20261101T090000
END:STANDARD
BEGIN:DAYLIGHT
TZOFFSETFROM:-0800
TZOFFSETTO:-0700
TZNAME:PDT
DTSTART:20270314T100000
END:DAYLIGHT
BEGIN:STANDARD
TZOFFSETFROM:-0700
TZOFFSETTO:-0800
TZNAME:PST
DTSTART:20271107T090000
END:STANDARD
END:VTIMEZONE
BEGIN:VEVENT
DTSTART;VALUE=DATE:20260606
DTEND;VALUE=DATE:20260802
DTSTAMP:20260421T052521
CREATED:20260420T151509Z
LAST-MODIFIED:20260420T151509Z
UID:10000216-1780704000-1785628799@america250wa.org
SUMMARY:Belonging: Frank Matsura – a sense of place
DESCRIPTION:As part of the America’s 250th theme “The Power of Place”\, this art show features artists’ contemporary responses to the photographs of Frank S. Matsura whose images captured a pivotal moment of transition in north-central Washington and the borderland region of Okanogan County. \nMatsura’s photographs document a landscape and community in flux—moving from mining to agriculture\, from river and horse-based transport to rail\, from temporary settlement to rooted communities. His lens recorded not only labor and infrastructure\, but play\, intimacy\, cultural identity\, and belonging. \nIn this exhibition\, contemporary artists respond to those themes from today’s perspective\, reflecting how ideas of land\, work\, home\, heritage\, and community continue to evolve.
URL:https://america250wa.org/event/belonging-frank-matsura-a-sense-of-place/
LOCATION:The Guild Art Center & Gallery\, 1412 Main Street\, Oroville\, Washington\, WA\, 98844\, United States
CATEGORIES:Art, History, or Cultural Exhibit,Cultural Celebration,Educational Program,Historical Program
ORGANIZER;CN="Highlands Community Support Coalition":MAILTO:chair@hc-support.org
GEO:48.9390293;-119.4359533
X-APPLE-STRUCTURED-LOCATION;VALUE=URI;X-ADDRESS=The Guild Art Center & Gallery 1412 Main Street Oroville Washington WA 98844 United States;X-APPLE-RADIUS=500;X-TITLE=1412 Main Street:geo:-119.4359533,48.9390293
END:VEVENT
END:VCALENDAR