BEGIN:VCALENDAR
VERSION:2.0
PRODID:-//Washington State Historical Society - ECPv6.15.20//NONSGML v1.0//EN
CALSCALE:GREGORIAN
METHOD:PUBLISH
X-WR-CALNAME:Washington State Historical Society
X-ORIGINAL-URL:https://america250wa.org
X-WR-CALDESC:Events for Washington State Historical Society
REFRESH-INTERVAL;VALUE=DURATION:PT1H
X-Robots-Tag:noindex
X-PUBLISHED-TTL:PT1H
BEGIN:VTIMEZONE
TZID:America/Los_Angeles
BEGIN:DAYLIGHT
TZOFFSETFROM:-0800
TZOFFSETTO:-0700
TZNAME:PDT
DTSTART:20250309T100000
END:DAYLIGHT
BEGIN:STANDARD
TZOFFSETFROM:-0700
TZOFFSETTO:-0800
TZNAME:PST
DTSTART:20251102T090000
END:STANDARD
BEGIN:DAYLIGHT
TZOFFSETFROM:-0800
TZOFFSETTO:-0700
TZNAME:PDT
DTSTART:20260308T100000
END:DAYLIGHT
BEGIN:STANDARD
TZOFFSETFROM:-0700
TZOFFSETTO:-0800
TZNAME:PST
DTSTART:20261101T090000
END:STANDARD
BEGIN:DAYLIGHT
TZOFFSETFROM:-0800
TZOFFSETTO:-0700
TZNAME:PDT
DTSTART:20270314T100000
END:DAYLIGHT
BEGIN:STANDARD
TZOFFSETFROM:-0700
TZOFFSETTO:-0800
TZNAME:PST
DTSTART:20271107T090000
END:STANDARD
END:VTIMEZONE
BEGIN:VEVENT
DTSTART;TZID=America/Los_Angeles:20260808T100000
DTEND;TZID=America/Los_Angeles:20260808T140000
DTSTAMP:20260421T052703
CREATED:20260331T203133Z
LAST-MODIFIED:20260331T203133Z
UID:10000183-1786183200-1786197600@america250wa.org
SUMMARY:Sumas Historical Society and Museum
DESCRIPTION:FREE ADMISSION
URL:https://america250wa.org/event/sumas-historical-society-and-museum/
LOCATION:Sumas Historical Society and Museum\, 114 Second Street\, Sumas\, WA\, 98295\, United States
GEO:48.998521;-122.2641186
X-APPLE-STRUCTURED-LOCATION;VALUE=URI;X-ADDRESS=Sumas Historical Society and Museum 114 Second Street Sumas WA 98295 United States;X-APPLE-RADIUS=500;X-TITLE=114 Second Street:geo:-122.2641186,48.998521
END:VEVENT
END:VCALENDAR