BEGIN:VCALENDAR
VERSION:2.0
PRODID:-//Washington State Historical Society - ECPv6.15.20//NONSGML v1.0//EN
CALSCALE:GREGORIAN
METHOD:PUBLISH
X-ORIGINAL-URL:https://america250wa.org
X-WR-CALDESC:Events for Washington State Historical Society
REFRESH-INTERVAL;VALUE=DURATION:PT1H
X-Robots-Tag:noindex
X-PUBLISHED-TTL:PT1H
BEGIN:VTIMEZONE
TZID:America/Los_Angeles
BEGIN:DAYLIGHT
TZOFFSETFROM:-0800
TZOFFSETTO:-0700
TZNAME:PDT
DTSTART:20250309T100000
END:DAYLIGHT
BEGIN:STANDARD
TZOFFSETFROM:-0700
TZOFFSETTO:-0800
TZNAME:PST
DTSTART:20251102T090000
END:STANDARD
BEGIN:DAYLIGHT
TZOFFSETFROM:-0800
TZOFFSETTO:-0700
TZNAME:PDT
DTSTART:20260308T100000
END:DAYLIGHT
BEGIN:STANDARD
TZOFFSETFROM:-0700
TZOFFSETTO:-0800
TZNAME:PST
DTSTART:20261101T090000
END:STANDARD
BEGIN:DAYLIGHT
TZOFFSETFROM:-0800
TZOFFSETTO:-0700
TZNAME:PDT
DTSTART:20270314T100000
END:DAYLIGHT
BEGIN:STANDARD
TZOFFSETFROM:-0700
TZOFFSETTO:-0800
TZNAME:PST
DTSTART:20271107T090000
END:STANDARD
END:VTIMEZONE
BEGIN:VEVENT
DTSTART;TZID=America/Los_Angeles:20260613T100000
DTEND;TZID=America/Los_Angeles:20260613T140000
DTSTAMP:20260421T052728
CREATED:20260420T153227Z
LAST-MODIFIED:20260420T153227Z
UID:10000218-1781344800-1781359200@america250wa.org
SUMMARY:North Mason Community Voice—Celebrating our Legacy
DESCRIPTION:This celebration is in collaboration with America 250 Mason County. This event commemorates the 250th anniversary of the signing of our Declaration of Independence. This free event will include period costumes\, games\, demonstrations\, food\, raffle prizes and music. Local veterans\, law enforcement\, and first responders will participate\, making it a community-focused event.
URL:https://america250wa.org/event/north-mason-community-voice-celebrating-our-legacy/
LOCATION:Port of Allyn\, 18560 E state Route 3\, Allyn\, WA\, 98524\, United States
CATEGORIES:Community Gathering
ATTACH;FMTTYPE=image/jpeg:https://america250wa.org/wp-content/uploads/2026/04/IMG_8321.jpeg
GEO:47.3847597;-122.827381
X-APPLE-STRUCTURED-LOCATION;VALUE=URI;X-ADDRESS=Port of Allyn 18560 E state Route 3 Allyn WA 98524 United States;X-APPLE-RADIUS=500;X-TITLE=18560 E state Route 3:geo:-122.827381,47.3847597
END:VEVENT
END:VCALENDAR