BEGIN:VCALENDAR
VERSION:2.0
PRODID:-//Washington State Historical Society - ECPv6.15.20//NONSGML v1.0//EN
CALSCALE:GREGORIAN
METHOD:PUBLISH
X-WR-CALNAME:Washington State Historical Society
X-ORIGINAL-URL:https://america250wa.org
X-WR-CALDESC:Events for Washington State Historical Society
REFRESH-INTERVAL;VALUE=DURATION:PT1H
X-Robots-Tag:noindex
X-PUBLISHED-TTL:PT1H
BEGIN:VTIMEZONE
TZID:UTC
BEGIN:STANDARD
TZOFFSETFROM:+0000
TZOFFSETTO:+0000
TZNAME:UTC
DTSTART:20250101T000000
END:STANDARD
END:VTIMEZONE
BEGIN:VEVENT
DTSTART;TZID=UTC:20260211T170000
DTEND;TZID=UTC:20260211T190000
DTSTAMP:20260421T071611
CREATED:20260122T233334Z
LAST-MODIFIED:20260122T233846Z
UID:10000062-1770829200-1770836400@america250wa.org
SUMMARY:Trivia Night - Celebrating 250 years of America
DESCRIPTION:Stars\, stripes\, and 250 years of history! 🇺🇸✨ \nAmerica is turning 250\, and we’re ready to celebrate in true red\, white\, and blue style! Be on the lookout for more events by the North Bend Downtown Foundation all year long honoring this incredible milestone. \nWe’re kicking things off with Pearl and Stone Wine Co. for an American History Trivia Night 🇺🇸🍷 \n📅 Wednesday\, February 11 \n⏰ 5–7 PM \nRock your best presidential look or deck yourself out in red\, white & blue\, start rounding up your trivia team\, and get ready for a fun\, patriotic evening🙌 \nPlease RSVP and let the America 250 \ncelebration begin! 🎉🇺🇸 \n 
URL:https://america250wa.org/event/trivia-night-celebrating-250-years-of-america/
LOCATION:Pearl & Stone\, 201 Main Avenue North\, North Bend\, WA\, 98045\, United States
CATEGORIES:Community Gathering
ATTACH;FMTTYPE=image/jpeg:https://america250wa.org/wp-content/uploads/2026/01/King-County-North-Bend-Downtown-Foundation-Trivia-Night-Feb-2026-1.jpg
GEO:47.4958238;-121.7850579
X-APPLE-STRUCTURED-LOCATION;VALUE=URI;X-ADDRESS=Pearl & Stone 201 Main Avenue North North Bend WA 98045 United States;X-APPLE-RADIUS=500;X-TITLE=201 Main Avenue North:geo:-121.7850579,47.4958238
END:VEVENT
END:VCALENDAR