BEGIN:VCALENDAR
VERSION:2.0
PRODID:-//Washington State Historical Society - ECPv6.15.20//NONSGML v1.0//EN
CALSCALE:GREGORIAN
METHOD:PUBLISH
X-ORIGINAL-URL:https://america250wa.org
X-WR-CALDESC:Events for Washington State Historical Society
REFRESH-INTERVAL;VALUE=DURATION:PT1H
X-Robots-Tag:noindex
X-PUBLISHED-TTL:PT1H
BEGIN:VTIMEZONE
TZID:America/Los_Angeles
BEGIN:DAYLIGHT
TZOFFSETFROM:-0800
TZOFFSETTO:-0700
TZNAME:PDT
DTSTART:20250309T100000
END:DAYLIGHT
BEGIN:STANDARD
TZOFFSETFROM:-0700
TZOFFSETTO:-0800
TZNAME:PST
DTSTART:20251102T090000
END:STANDARD
BEGIN:DAYLIGHT
TZOFFSETFROM:-0800
TZOFFSETTO:-0700
TZNAME:PDT
DTSTART:20260308T100000
END:DAYLIGHT
BEGIN:STANDARD
TZOFFSETFROM:-0700
TZOFFSETTO:-0800
TZNAME:PST
DTSTART:20261101T090000
END:STANDARD
BEGIN:DAYLIGHT
TZOFFSETFROM:-0800
TZOFFSETTO:-0700
TZNAME:PDT
DTSTART:20270314T100000
END:DAYLIGHT
BEGIN:STANDARD
TZOFFSETFROM:-0700
TZOFFSETTO:-0800
TZNAME:PST
DTSTART:20271107T090000
END:STANDARD
END:VTIMEZONE
BEGIN:VEVENT
DTSTART;TZID=America/Los_Angeles:20260808T100000
DTEND;TZID=America/Los_Angeles:20260808T160000
DTSTAMP:20260421T052814
CREATED:20260330T170702Z
LAST-MODIFIED:20260330T170702Z
UID:10000135-1786183200-1786204800@america250wa.org
SUMMARY:Moses Lake Museum & Art Center
DESCRIPTION:FREE ADMISSION
URL:https://america250wa.org/event/moses-lake-museum-art-center/
LOCATION:Moses Lake Museum & Art Center\, 401 S. Balsam St.\, Moses Lake\, WA\, 98837\, United States
CATEGORIES:Community Gathering
ORGANIZER;CN="City of Moses Lake Museum &amp%3B Art Center":MAILTO:museum@cityofml.com
GEO:47.130916;-119.2739701
X-APPLE-STRUCTURED-LOCATION;VALUE=URI;X-ADDRESS=Moses Lake Museum & Art Center 401 S. Balsam St. Moses Lake WA 98837 United States;X-APPLE-RADIUS=500;X-TITLE=401 S. Balsam St.:geo:-119.2739701,47.130916
END:VEVENT
END:VCALENDAR