BEGIN:VCALENDAR
VERSION:2.0
PRODID:-//Washington State Historical Society - ECPv6.15.20//NONSGML v1.0//EN
CALSCALE:GREGORIAN
METHOD:PUBLISH
X-WR-CALNAME:Washington State Historical Society
X-ORIGINAL-URL:https://america250wa.org
X-WR-CALDESC:Events for Washington State Historical Society
REFRESH-INTERVAL;VALUE=DURATION:PT1H
X-Robots-Tag:noindex
X-PUBLISHED-TTL:PT1H
BEGIN:VTIMEZONE
TZID:America/Los_Angeles
BEGIN:DAYLIGHT
TZOFFSETFROM:-0800
TZOFFSETTO:-0700
TZNAME:PDT
DTSTART:20250309T100000
END:DAYLIGHT
BEGIN:STANDARD
TZOFFSETFROM:-0700
TZOFFSETTO:-0800
TZNAME:PST
DTSTART:20251102T090000
END:STANDARD
BEGIN:DAYLIGHT
TZOFFSETFROM:-0800
TZOFFSETTO:-0700
TZNAME:PDT
DTSTART:20260308T100000
END:DAYLIGHT
BEGIN:STANDARD
TZOFFSETFROM:-0700
TZOFFSETTO:-0800
TZNAME:PST
DTSTART:20261101T090000
END:STANDARD
BEGIN:DAYLIGHT
TZOFFSETFROM:-0800
TZOFFSETTO:-0700
TZNAME:PDT
DTSTART:20270314T100000
END:DAYLIGHT
BEGIN:STANDARD
TZOFFSETFROM:-0700
TZOFFSETTO:-0800
TZNAME:PST
DTSTART:20271107T090000
END:STANDARD
END:VTIMEZONE
BEGIN:VEVENT
DTSTART;VALUE=DATE:20260813
DTEND;VALUE=DATE:20260817
DTSTAMP:20260421T052240
CREATED:20260326T192343Z
LAST-MODIFIED:20260326T192343Z
UID:10000127-1786579200-1786924799@america250wa.org
SUMMARY:KLICKITAT COUNTY FAIR & RODEO
DESCRIPTION:Your Ticket to Fun! \n\nNPRA Rodeo Saturday & Sunday\nBeer Gardens & Food Vendors\nLive Stage Entertainment\, Bouncy Houses & Laser Tag\nLivestock Shows & Market Stock Sale\nHorse Show & Western Games\nDowntown Parade\nRanch Sorting\, Team Penning & Team Roping Jackpot Events\nCrafts\, Sewing\, Needlework\, Fiber Arts\nPhotography\, Fine Art\, Ceramics Exhibits\nFood Preservation\, Crops\, Horticulture\, Flowers Exhibits\nCommercial & Booth Displays\n\nFair Admission (Cash Only Sales): \n\nThursday & Friday – $5 Daily – Opening at 8am\nSaturday & Sunday – $10 Daily – Opening at 8am\nSeason Pass All Ages – $20\nAge 5 or younger – Free when accompanied by an adult\nPRE-SALE Available at Fair Office beginning Monday of Fair Week\nFREE Parking\nCASH Only\, ATM on site\n\nVisit KlickitatCountyFair.com for more information\, updates and continuing attractions.
URL:https://america250wa.org/event/klickitat-county-fair-rodeo/
LOCATION:Klickitat County Fairgrounds\, 903 N. Fairgrounds Road\, Goldendale\, WA\, 98620\, United States
CATEGORIES:Community Gathering
ATTACH;FMTTYPE=image/png:https://america250wa.org/wp-content/uploads/2026/03/KCFR-Emblem-K.png
ORGANIZER;CN="Klickitat County Fairboard":MAILTO:info@klickitatcountyfair.com
GEO:45.8281239;-120.834459
X-APPLE-STRUCTURED-LOCATION;VALUE=URI;X-ADDRESS=Klickitat County Fairgrounds 903 N. Fairgrounds Road Goldendale WA 98620 United States;X-APPLE-RADIUS=500;X-TITLE=903 N. Fairgrounds Road:geo:-120.834459,45.8281239
END:VEVENT
END:VCALENDAR