BEGIN:VCALENDAR
VERSION:2.0
PRODID:-//Washington State Historical Society - ECPv6.15.20//NONSGML v1.0//EN
CALSCALE:GREGORIAN
METHOD:PUBLISH
X-ORIGINAL-URL:https://america250wa.org
X-WR-CALDESC:Events for Washington State Historical Society
REFRESH-INTERVAL;VALUE=DURATION:PT1H
X-Robots-Tag:noindex
X-PUBLISHED-TTL:PT1H
BEGIN:VTIMEZONE
TZID:UTC
BEGIN:STANDARD
TZOFFSETFROM:+0000
TZOFFSETTO:+0000
TZNAME:UTC
DTSTART:20250101T000000
END:STANDARD
END:VTIMEZONE
BEGIN:VEVENT
DTSTART;TZID=UTC:20260307T130000
DTEND;TZID=UTC:20260307T140000
DTSTAMP:20260421T064741
CREATED:20260224T002918Z
LAST-MODIFIED:20260224T002918Z
UID:10000087-1772888400-1772892000@america250wa.org
SUMMARY:Hidden Layers: Women's Undergarments and How They've Shaped Ladies’ Liberties
DESCRIPTION:Women’s underwear has long reflected society’s views on modesty\, femininity\, and beauty. From historic styles that restricted the female form to the more liberating fashions of today\, women’s undergarments have been symbols of both oppression and empowerment. \nIn this talk\, explore how comfort\, freedom\, and function in women’s undergarments mirrored broader social changes. We ask why there were so many people throughout history who had their panties in a bunch over the drawers in women’s drawers. And we pull back the layers of satin and silk to see how the evolution of women’s underwear parallels our ongoing struggle for gender equality. \nLOCATION: 819 SW 152nd St. Burien\, WA 98166 \nWHEN: March 7th\, 1-2pm
URL:https://america250wa.org/event/hidden-layers-womens-undergarments-and-how-theyve-shaped-ladies-liberties/
LOCATION:Highline Heritage Museum\, 819 SW 152nd St. Burien\, WA 98166\, Burien\, WA\, 98166\, United States
CATEGORIES:Historical Program,Lecture or Talk
ATTACH;FMTTYPE=image/png:https://america250wa.org/wp-content/uploads/2026/02/5.png
ORGANIZER;CN="Highline Heritage Museum":MAILTO:events@highlinemuseum.org
GEO:47.466578;-122.3454207
X-APPLE-STRUCTURED-LOCATION;VALUE=URI;X-ADDRESS=DESCRIPTION:Women’s underwear has long reflected society’s views on modesty femininity and beauty. From historic styles that restricted the female form to the more liberating fashions of today women’s undergarments have been symbols of both oppression and empowerment. \nIn this talk explore how comfort freedom and function in women’s undergarments mirrored broader social changes. We ask why there were so many people throughout history who had their panties in a bunch over the drawers in women’s drawers. And we pull back the layers of satin and silk to see how the evolution of women’s underwear parallels our ongoing struggle for gender equality. \n 819 SW 152nd St. Burien WA 98166 \nWHEN: March 7th 1-2pm;X-APPLE-RADIUS=500;X-TITLE=819 SW 152nd St. Burien\, WA 98166:geo:-122.3454207,47.466578
END:VEVENT
BEGIN:VEVENT
DTSTART;TZID=UTC:20260221T140000
DTEND;TZID=UTC:20260221T150000
DTSTAMP:20260421T064741
CREATED:20260213T005446Z
LAST-MODIFIED:20260213T005446Z
UID:10000077-1771682400-1771686000@america250wa.org
SUMMARY:Our 50 States
DESCRIPTION:Join Teacher Nikki at the Highline Heritage Museum on February 21\, from 2 – 3pm\, for a free kids and families event! \n\nGames with US maps\nRead the Declaration of Independence\nSee American flags over the years\nMatch photos to states to states\, do puzzles\, wooden trains\, trivia\, and more!
URL:https://america250wa.org/event/our-50-states/
LOCATION:Highline Heritage Museum\, 819 SW 152nd St. Burien\, WA 98166\, Burien\, WA\, 98166\, United States
CATEGORIES:Educational Program,Historical Program
ATTACH;FMTTYPE=image/png:https://america250wa.org/wp-content/uploads/2026/02/3.png
ORGANIZER;CN="Highline Heritage Museum":MAILTO:events@highlinemuseum.org
GEO:47.466578;-122.3454207
X-APPLE-STRUCTURED-LOCATION;VALUE=URI;X-ADDRESS=Highline Heritage Museum 819 SW 152nd St. Burien WA 98166 Burien WA 98166 United States;X-APPLE-RADIUS=500;X-TITLE=819 SW 152nd St. Burien\, WA 98166:geo:-122.3454207,47.466578
END:VEVENT
END:VCALENDAR