BEGIN:VCALENDAR
VERSION:2.0
PRODID:-//Washington State Historical Society - ECPv6.15.20//NONSGML v1.0//EN
CALSCALE:GREGORIAN
METHOD:PUBLISH
X-ORIGINAL-URL:https://america250wa.org
X-WR-CALDESC:Events for Washington State Historical Society
REFRESH-INTERVAL;VALUE=DURATION:PT1H
X-Robots-Tag:noindex
X-PUBLISHED-TTL:PT1H
BEGIN:VTIMEZONE
TZID:UTC
BEGIN:STANDARD
TZOFFSETFROM:+0000
TZOFFSETTO:+0000
TZNAME:UTC
DTSTART:20250101T000000
END:STANDARD
END:VTIMEZONE
BEGIN:VEVENT
DTSTART;TZID=UTC:20260502T100000
DTEND;TZID=UTC:20260502T150000
DTSTAMP:20260421T052700
CREATED:20260220T033543Z
LAST-MODIFIED:20260220T033543Z
UID:10000079-1777716000-1777734000@america250wa.org
SUMMARY:Vader May Day
DESCRIPTION:The Vader May Day Festival was started in Vader\, Washington in 1952 by Lena DeAger. At the time Lena was a Girl Scout Leader in Vader and the parade was mostly Boy and Girl Scouts from town. They decorated bicycles and wagons and some took pets in the parade. It was a very short parade\, but over the years Lena put much energy into making the parade bigger and better every year. \nIn the beginning the May Day Queen was usually a first-grader who earned the honor by putting out donation jars at different businesses and going door to door. The girl who raised the most money was the Queen. Girls who later vied for the title of “May Day Queen” sold buttons. \nLena also included the May Pole Dance and the Cake Walk during early May Day Festivals and these traditions carry on today. Lena left a legacy to the City of Vader and its citizens and we are proud to carry on the May Day Festival tradition. \n 
URL:https://america250wa.org/event/vader-may-day/
LOCATION:City of Vader\, 704 D St and 520 A St\, Vader\, WA\, United States
CATEGORIES:Parade
ATTACH;FMTTYPE=image/jpeg:https://america250wa.org/wp-content/uploads/2026/02/may-day-buttons.jpg
ORGANIZER;CN="City of Vader":MAILTO:vaderadmin@vaderwa.org
GEO:46.4033457;-122.9606758
X-APPLE-STRUCTURED-LOCATION;VALUE=URI;X-ADDRESS=City of Vader 704 D St and 520 A St Vader WA United States;X-APPLE-RADIUS=500;X-TITLE=704 D St and 520 A St:geo:-122.9606758,46.4033457
END:VEVENT
BEGIN:VEVENT
DTSTART;VALUE=DATE:20260704
DTEND;VALUE=DATE:20260705
DTSTAMP:20260421T052700
CREATED:20260218T224413Z
LAST-MODIFIED:20260218T224413Z
UID:10000078-1783123200-1783209599@america250wa.org
SUMMARY:Red White and Boom in Vader
DESCRIPTION:The Red\, White and Boom festival in Vader is a lively Independence Day celebration held on July 4th featuring live music\, an apple pie contest (details TBA) street vendors\, local food trucks\, a cornhole tournament\, a large car show and lots of community centered activities throughout the day\, ending with an impressive firework show  to end the night.
URL:https://america250wa.org/event/red-white-and-boom-in-vader/
LOCATION:City of Vader\, 704 D St and 520 A St\, Vader\, WA\, United States
ATTACH;FMTTYPE=image/png:https://america250wa.org/wp-content/uploads/2026/02/1547.png
ORGANIZER;CN="City of Vader":MAILTO:vaderadmin@vaderwa.org
GEO:46.4033457;-122.9606758
X-APPLE-STRUCTURED-LOCATION;VALUE=URI;X-ADDRESS=City of Vader 704 D St and 520 A St Vader WA United States;X-APPLE-RADIUS=500;X-TITLE=704 D St and 520 A St:geo:-122.9606758,46.4033457
END:VEVENT
END:VCALENDAR