BEGIN:VCALENDAR
VERSION:2.0
PRODID:-//Washington State Historical Society - ECPv6.15.20//NONSGML v1.0//EN
CALSCALE:GREGORIAN
METHOD:PUBLISH
X-ORIGINAL-URL:https://america250wa.org
X-WR-CALDESC:Events for Washington State Historical Society
REFRESH-INTERVAL;VALUE=DURATION:PT1H
X-Robots-Tag:noindex
X-PUBLISHED-TTL:PT1H
BEGIN:VTIMEZONE
TZID:UTC
BEGIN:STANDARD
TZOFFSETFROM:+0000
TZOFFSETTO:+0000
TZNAME:UTC
DTSTART:20250101T000000
END:STANDARD
END:VTIMEZONE
BEGIN:VEVENT
DTSTART;TZID=UTC:20260225T100000
DTEND;TZID=UTC:20260225T120000
DTSTAMP:20260421T071513
CREATED:20260108T041851Z
LAST-MODIFIED:20260108T041851Z
UID:10000049-1772013600-1772020800@america250wa.org
SUMMARY:Writing Your Family Story: A Guided Genealogy Workshop
DESCRIPTION:As part of the America 250 Celebration\, the Sno-Isle Genealogical Society invites the public to a free\, six-week writing course with four in-person sessions focused on helping participants write one meaningful family or genealogy-based story. \nThis workshop is designed to be approachable and supportive — not a full family history project. Participants may write about an event\, an ancestor\, a trip\, or how their family connects to a larger historical moment. No writing experience or completed research is required. \nExperienced Sno-Isle Genealogical Society volunteers will be available to provide writing encouragement and light research assistance using the society’s library resources. \nDates: January 14 & 21; February 18 & 25\, 2026Time: 10:00 AM – 12:00 PMLocation: Humble House at Heritage Park\, Lynnwood\, WACost: FreeRegistration: Required; space is limitedEligibility: Open to the public (no membership required) \nTo register\, call 425-775-6267\, email askus@snoislegenealogy.org\, or visit the Sno-Isle Genealogical Society Library. For calls\, please leave a message. Someone will return your call to confirm your registration.
URL:https://america250wa.org/event/writing-your-family-story-a-guided-genealogy-workshop-5/
LOCATION:Humble House\, 19827 Poplar Way\, Lynnwood\, WA\, 98036\, United States
CATEGORIES:Workshop
ATTACH;FMTTYPE=image/png:https://america250wa.org/wp-content/uploads/2026/01/SIGS-Writing-Group-FBE.png
ORGANIZER;CN="Sno-Isle Genealogical Society":MAILTO:askus@snoislegenealogy.org
GEO:47.8183189;-122.277464
X-APPLE-STRUCTURED-LOCATION;VALUE=URI;X-ADDRESS=Humble House 19827 Poplar Way Lynnwood WA 98036 United States;X-APPLE-RADIUS=500;X-TITLE=19827 Poplar Way:geo:-122.277464,47.8183189
END:VEVENT
BEGIN:VEVENT
DTSTART;TZID=UTC:20260218T100000
DTEND;TZID=UTC:20260218T120000
DTSTAMP:20260421T071513
CREATED:20260108T041817Z
LAST-MODIFIED:20260108T041817Z
UID:10000048-1771408800-1771416000@america250wa.org
SUMMARY:Writing Your Family Story: A Guided Genealogy Workshop
DESCRIPTION:As part of the America 250 Celebration\, the Sno-Isle Genealogical Society invites the public to a free\, six-week writing course with four in-person sessions focused on helping participants write one meaningful family or genealogy-based story. \nThis workshop is designed to be approachable and supportive — not a full family history project. Participants may write about an event\, an ancestor\, a trip\, or how their family connects to a larger historical moment. No writing experience or completed research is required. \nExperienced Sno-Isle Genealogical Society volunteers will be available to provide writing encouragement and light research assistance using the society’s library resources. \nDates: January 14 & 21; February 18 & 25\, 2026Time: 10:00 AM – 12:00 PMLocation: Humble House at Heritage Park\, Lynnwood\, WACost: FreeRegistration: Required; space is limitedEligibility: Open to the public (no membership required) \nTo register\, call 425-775-6267\, email askus@snoislegenealogy.org\, or visit the Sno-Isle Genealogical Society Library. For calls\, please leave a message. Someone will return your call to confirm your registration.
URL:https://america250wa.org/event/writing-your-family-story-a-guided-genealogy-workshop-4/
LOCATION:Humble House\, 19827 Poplar Way\, Lynnwood\, WA\, 98036\, United States
CATEGORIES:Workshop
ATTACH;FMTTYPE=image/png:https://america250wa.org/wp-content/uploads/2026/01/SIGS-Writing-Group-FBE.png
ORGANIZER;CN="Sno-Isle Genealogical Society":MAILTO:askus@snoislegenealogy.org
GEO:47.8183189;-122.277464
X-APPLE-STRUCTURED-LOCATION;VALUE=URI;X-ADDRESS=Humble House 19827 Poplar Way Lynnwood WA 98036 United States;X-APPLE-RADIUS=500;X-TITLE=19827 Poplar Way:geo:-122.277464,47.8183189
END:VEVENT
BEGIN:VEVENT
DTSTART;TZID=UTC:20260121T100000
DTEND;TZID=UTC:20260121T120000
DTSTAMP:20260421T071513
CREATED:20260108T041735Z
LAST-MODIFIED:20260108T041735Z
UID:10000047-1768989600-1768996800@america250wa.org
SUMMARY:Writing Your Family Story: A Guided Genealogy Workshop
DESCRIPTION:As part of the America 250 Celebration\, the Sno-Isle Genealogical Society invites the public to a free\, six-week writing course with four in-person sessions focused on helping participants write one meaningful family or genealogy-based story. \nThis workshop is designed to be approachable and supportive — not a full family history project. Participants may write about an event\, an ancestor\, a trip\, or how their family connects to a larger historical moment. No writing experience or completed research is required. \nExperienced Sno-Isle Genealogical Society volunteers will be available to provide writing encouragement and light research assistance using the society’s library resources. \nDates: January 14 & 21; February 18 & 25\, 2026Time: 10:00 AM – 12:00 PMLocation: Humble House at Heritage Park\, Lynnwood\, WACost: FreeRegistration: Required; space is limitedEligibility: Open to the public (no membership required) \nTo register\, call 425-775-6267\, email askus@snoislegenealogy.org\, or visit the Sno-Isle Genealogical Society Library. For calls\, please leave a message. Someone will return your call to confirm your registration.
URL:https://america250wa.org/event/writing-your-family-story-a-guided-genealogy-workshop-3/
LOCATION:Humble House\, 19827 Poplar Way\, Lynnwood\, WA\, 98036\, United States
CATEGORIES:Workshop
ATTACH;FMTTYPE=image/png:https://america250wa.org/wp-content/uploads/2026/01/SIGS-Writing-Group-FBE.png
ORGANIZER;CN="Sno-Isle Genealogical Society":MAILTO:askus@snoislegenealogy.org
GEO:47.8183189;-122.277464
X-APPLE-STRUCTURED-LOCATION;VALUE=URI;X-ADDRESS=Humble House 19827 Poplar Way Lynnwood WA 98036 United States;X-APPLE-RADIUS=500;X-TITLE=19827 Poplar Way:geo:-122.277464,47.8183189
END:VEVENT
BEGIN:VEVENT
DTSTART;TZID=UTC:20260118T100000
DTEND;TZID=UTC:20260118T120000
DTSTAMP:20260421T071513
CREATED:20260108T041638Z
LAST-MODIFIED:20260108T041638Z
UID:10000040-1768730400-1768737600@america250wa.org
SUMMARY:Writing Your Family Story: A Guided Genealogy Workshop
DESCRIPTION:As part of the America 250 Celebration\, the Sno-Isle Genealogical Society invites the public to a free\, six-week writing course with four in-person sessions focused on helping participants write one meaningful family or genealogy-based story. \nThis workshop is designed to be approachable and supportive — not a full family history project. Participants may write about an event\, an ancestor\, a trip\, or how their family connects to a larger historical moment. No writing experience or completed research is required. \nExperienced Sno-Isle Genealogical Society volunteers will be available to provide writing encouragement and light research assistance using the society’s library resources. \nDates: January 14 & 21; February 18 & 25\, 2026Time: 10:00 AM – 12:00 PMLocation: Humble House at Heritage Park\, Lynnwood\, WACost: FreeRegistration: Required; space is limitedEligibility: Open to the public (no membership required) \nTo register\, call 425-775-6267\, email askus@snoislegenealogy.org\, or visit the Sno-Isle Genealogical Society Library. For calls\, please leave a message. Someone will return your call to confirm your registration.
URL:https://america250wa.org/event/writing-your-family-story-a-guided-genealogy-workshop-2/
LOCATION:Humble House\, 19827 Poplar Way\, Lynnwood\, WA\, 98036\, United States
CATEGORIES:Workshop
ATTACH;FMTTYPE=image/png:https://america250wa.org/wp-content/uploads/2026/01/SIGS-Writing-Group-FBE.png
ORGANIZER;CN="Sno-Isle Genealogical Society":MAILTO:askus@snoislegenealogy.org
GEO:47.8183189;-122.277464
X-APPLE-STRUCTURED-LOCATION;VALUE=URI;X-ADDRESS=Humble House 19827 Poplar Way Lynnwood WA 98036 United States;X-APPLE-RADIUS=500;X-TITLE=19827 Poplar Way:geo:-122.277464,47.8183189
END:VEVENT
BEGIN:VEVENT
DTSTART;TZID=UTC:20260114T100000
DTEND;TZID=UTC:20260114T120000
DTSTAMP:20260421T071513
CREATED:20260108T041601Z
LAST-MODIFIED:20260108T041601Z
UID:10000034-1768384800-1768392000@america250wa.org
SUMMARY:Writing Your Family Story: A Guided Genealogy Workshop
DESCRIPTION:As part of the America 250 Celebration\, the Sno-Isle Genealogical Society invites the public to a free\, six-week writing course with four in-person sessions focused on helping participants write one meaningful family or genealogy-based story. \nThis workshop is designed to be approachable and supportive — not a full family history project. Participants may write about an event\, an ancestor\, a trip\, or how their family connects to a larger historical moment. No writing experience or completed research is required. \nExperienced Sno-Isle Genealogical Society volunteers will be available to provide writing encouragement and light research assistance using the society’s library resources. \nDates: January 14 & 21; February 18 & 25\, 2026Time: 10:00 AM – 12:00 PMLocation: Humble House at Heritage Park\, Lynnwood\, WACost: FreeRegistration: Required; space is limitedEligibility: Open to the public (no membership required) \nTo register\, call 425-775-6267\, email askus@snoislegenealogy.org\, or visit the Sno-Isle Genealogical Society Library. For calls\, please leave a message. Someone will return your call to confirm your registration.
URL:https://america250wa.org/event/writing-your-family-story-a-guided-genealogy-workshop/
LOCATION:Humble House\, 19827 Poplar Way\, Lynnwood\, WA\, 98036\, United States
CATEGORIES:Workshop
ATTACH;FMTTYPE=image/png:https://america250wa.org/wp-content/uploads/2026/01/SIGS-Writing-Group-FBE.png
ORGANIZER;CN="Sno-Isle Genealogical Society":MAILTO:askus@snoislegenealogy.org
GEO:47.8183189;-122.277464
X-APPLE-STRUCTURED-LOCATION;VALUE=URI;X-ADDRESS=Humble House 19827 Poplar Way Lynnwood WA 98036 United States;X-APPLE-RADIUS=500;X-TITLE=19827 Poplar Way:geo:-122.277464,47.8183189
END:VEVENT
END:VCALENDAR