BEGIN:VCALENDAR
VERSION:2.0
PRODID:-//Washington State Historical Society - ECPv6.15.20//NONSGML v1.0//EN
CALSCALE:GREGORIAN
METHOD:PUBLISH
X-ORIGINAL-URL:https://america250wa.org
X-WR-CALDESC:Events for Washington State Historical Society
REFRESH-INTERVAL;VALUE=DURATION:PT1H
X-Robots-Tag:noindex
X-PUBLISHED-TTL:PT1H
BEGIN:VTIMEZONE
TZID:UTC
BEGIN:STANDARD
TZOFFSETFROM:+0000
TZOFFSETTO:+0000
TZNAME:UTC
DTSTART:20250101T000000
END:STANDARD
END:VTIMEZONE
BEGIN:VTIMEZONE
TZID:America/Los_Angeles
BEGIN:DAYLIGHT
TZOFFSETFROM:-0800
TZOFFSETTO:-0700
TZNAME:PDT
DTSTART:20250309T100000
END:DAYLIGHT
BEGIN:STANDARD
TZOFFSETFROM:-0700
TZOFFSETTO:-0800
TZNAME:PST
DTSTART:20251102T090000
END:STANDARD
BEGIN:DAYLIGHT
TZOFFSETFROM:-0800
TZOFFSETTO:-0700
TZNAME:PDT
DTSTART:20260308T100000
END:DAYLIGHT
BEGIN:STANDARD
TZOFFSETFROM:-0700
TZOFFSETTO:-0800
TZNAME:PST
DTSTART:20261101T090000
END:STANDARD
BEGIN:DAYLIGHT
TZOFFSETFROM:-0800
TZOFFSETTO:-0700
TZNAME:PDT
DTSTART:20270314T100000
END:DAYLIGHT
BEGIN:STANDARD
TZOFFSETFROM:-0700
TZOFFSETTO:-0800
TZNAME:PST
DTSTART:20271107T090000
END:STANDARD
END:VTIMEZONE
BEGIN:VTIMEZONE
TZID:America/Los_Angeles
BEGIN:DAYLIGHT
TZOFFSETFROM:-0800
TZOFFSETTO:-0700
TZNAME:PDT
DTSTART:20250309T100000
END:DAYLIGHT
BEGIN:STANDARD
TZOFFSETFROM:-0700
TZOFFSETTO:-0800
TZNAME:PST
DTSTART:20251102T090000
END:STANDARD
BEGIN:DAYLIGHT
TZOFFSETFROM:-0800
TZOFFSETTO:-0700
TZNAME:PDT
DTSTART:20260308T100000
END:DAYLIGHT
BEGIN:STANDARD
TZOFFSETFROM:-0700
TZOFFSETTO:-0800
TZNAME:PST
DTSTART:20261101T090000
END:STANDARD
BEGIN:DAYLIGHT
TZOFFSETFROM:-0800
TZOFFSETTO:-0700
TZNAME:PDT
DTSTART:20270314T100000
END:DAYLIGHT
BEGIN:STANDARD
TZOFFSETFROM:-0700
TZOFFSETTO:-0800
TZNAME:PST
DTSTART:20271107T090000
END:STANDARD
END:VTIMEZONE
BEGIN:VEVENT
DTSTART;TZID=UTC:20260301T080000
DTEND;TZID=UTC:20260528T170000
DTSTAMP:20260421T052723
CREATED:20260210T055245Z
LAST-MODIFIED:20260210T060200Z
UID:10000074-1772352000-1779987600@america250wa.org
SUMMARY:Forest Festival Flag making\, Mason County
DESCRIPTION:Mason County (Flags of our Fathers Flyer–2026) \n  \nAmerica250 Mason County introduces a flag making opportunity: “Out of Many – One.”  That phrase appears in the Great Seal of the United States and on every US coin as E Pluribus Unum;  out of many – one.  Out of many colonies\, we grew to become one country.  Out of many immigrants we blended together in a melting pot of cultures and traditions.  Out of many individual stories\, we united for one common goal of “Life\, Liberty and the Pursuit of Happiness”.  Out of the many colonial flags\, we grew under one banner.  In honoring the history of the people represented by each of those many colonial flags\, we are pleased to partner with Sierra Pacific Industries to launch “Flags of Our Founding Fathers”. \nThis partnership honors the county’s legacy and rich history in timber and Sierra Pacific’s dedication to our forests\, in regeneration and replanting\, managing and harvesting\, while providing for our homes with lumber and millwork.   By repurposing donated lumber\, this project will provide wood kits to interested groups with the goals of creating colonial flags that will be displayed in the Forest Festival Parade and judged at the post parade event at Loop Field in Shelton on May 30\, 2026.  Feel free to share the flyer with any interested groups or contact Will at his email  – WHarris.Allyn@gmail.com.\nKits will be available in March. Completed projects are to be returned May 27/28. The completed projects will be available for pickup as early as Saturday\, May 30\, 2026\, at 4:00 pm at our booth on Loop Field.
URL:https://america250wa.org/event/forest-festival-flag-making-mason-county/
LOCATION:Mason County Forest Festival\, Railroad Avenue\, Shelton\, WA\, 98554\, United States
CATEGORIES:Art, History, or Cultural Exhibit,Community Gathering
ATTACH;FMTTYPE=image/jpeg:https://america250wa.org/wp-content/uploads/2026/02/IMG_8328.jpeg
GEO:47.2127468;-123.0993891
X-APPLE-STRUCTURED-LOCATION;VALUE=URI;X-ADDRESS=Mason County Forest Festival Railroad Avenue Shelton WA 98554 United States;X-APPLE-RADIUS=500;X-TITLE=Railroad Avenue:geo:-123.0993891,47.2127468
END:VEVENT
BEGIN:VEVENT
DTSTART;TZID=America/Los_Angeles:20260530T100000
DTEND;TZID=America/Los_Angeles:20260530T170000
DTSTAMP:20260421T052723
CREATED:20260210T000541Z
LAST-MODIFIED:20260210T054925Z
UID:10000073-1780135200-1780160400@america250wa.org
SUMMARY:Forest Festival entry in Shelton\, WA
DESCRIPTION:America250 Mason County Committee will participate in the Forest Festival Parade and have a booth on Loop Field.\nBe a patriot and sign the Declaration of Independence and participate in games. We will display wooden flags created by locals. 
URL:https://america250wa.org/event/forest-festival-entry-in-shelton-wa/
CATEGORIES:Community Gathering
END:VEVENT
BEGIN:VEVENT
DTSTART;TZID=America/Los_Angeles:20260613T100000
DTEND;TZID=America/Los_Angeles:20260613T140000
DTSTAMP:20260421T052723
CREATED:20260420T153227Z
LAST-MODIFIED:20260420T153227Z
UID:10000218-1781344800-1781359200@america250wa.org
SUMMARY:North Mason Community Voice—Celebrating our Legacy
DESCRIPTION:This celebration is in collaboration with America 250 Mason County. This event commemorates the 250th anniversary of the signing of our Declaration of Independence. This free event will include period costumes\, games\, demonstrations\, food\, raffle prizes and music. Local veterans\, law enforcement\, and first responders will participate\, making it a community-focused event.
URL:https://america250wa.org/event/north-mason-community-voice-celebrating-our-legacy/
LOCATION:Port of Allyn\, 18560 E state Route 3\, Allyn\, WA\, 98524\, United States
CATEGORIES:Community Gathering
ATTACH;FMTTYPE=image/jpeg:https://america250wa.org/wp-content/uploads/2026/04/IMG_8321.jpeg
GEO:47.3847597;-122.827381
X-APPLE-STRUCTURED-LOCATION;VALUE=URI;X-ADDRESS=Port of Allyn 18560 E state Route 3 Allyn WA 98524 United States;X-APPLE-RADIUS=500;X-TITLE=18560 E state Route 3:geo:-122.827381,47.3847597
END:VEVENT
END:VCALENDAR