BEGIN:VCALENDAR
VERSION:2.0
PRODID:-//Washington State Historical Society - ECPv6.15.20//NONSGML v1.0//EN
CALSCALE:GREGORIAN
METHOD:PUBLISH
X-ORIGINAL-URL:https://america250wa.org
X-WR-CALDESC:Events for Washington State Historical Society
REFRESH-INTERVAL;VALUE=DURATION:PT1H
X-Robots-Tag:noindex
X-PUBLISHED-TTL:PT1H
BEGIN:VTIMEZONE
TZID:UTC
BEGIN:STANDARD
TZOFFSETFROM:+0000
TZOFFSETTO:+0000
TZNAME:UTC
DTSTART:20250101T000000
END:STANDARD
END:VTIMEZONE
BEGIN:VEVENT
DTSTART;TZID=UTC:20260530T080000
DTEND;TZID=UTC:20260530T170000
DTSTAMP:20260421T052721
CREATED:20260306T044624Z
LAST-MODIFIED:20260306T044624Z
UID:10000098-1780128000-1780160400@america250wa.org
SUMMARY:Cruzin Chelan
DESCRIPTION:The Lake Chelan Chamber of Commerce is proud to celebrate the 20th Anniversary of Cruizin Chelan! Here’s to 20 years of chrome\, classic cars\, muscle\, and the incredible community that keeps this tradition rolling year after year. \nJoin us for a weekend of classic cars and family-friendly fun in the heart of Historic Downtown Chelan. Whether you’re a car enthusiast\, a proud participant\, or simply here to take in the sights\, Cruizin Chelan offers something for everyone. \nParticipants can also plan to join us for the Kick Off Party on Friday\, May 29\, to get the weekend started.
URL:https://america250wa.org/event/cruzin-chelan/
LOCATION:Downtown Chelan\, Chelan\, 98816\, United States
ATTACH;FMTTYPE=image/png:https://america250wa.org/wp-content/uploads/2026/03/lccc_26_cruizin_web_event-1-1.png
ORGANIZER;CN="Lake Chelan Chamber of Commerce":MAILTO:Ruby@lakechelan.com
GEO:47.8408323;-120.0168079
END:VEVENT
END:VCALENDAR