BEGIN:VCALENDAR
VERSION:2.0
PRODID:-//Washington State Historical Society - ECPv6.15.20//NONSGML v1.0//EN
CALSCALE:GREGORIAN
METHOD:PUBLISH
X-ORIGINAL-URL:https://america250wa.org
X-WR-CALDESC:Events for Washington State Historical Society
REFRESH-INTERVAL;VALUE=DURATION:PT1H
X-Robots-Tag:noindex
X-PUBLISHED-TTL:PT1H
BEGIN:VTIMEZONE
TZID:America/Los_Angeles
BEGIN:DAYLIGHT
TZOFFSETFROM:-0800
TZOFFSETTO:-0700
TZNAME:PDT
DTSTART:20250309T100000
END:DAYLIGHT
BEGIN:STANDARD
TZOFFSETFROM:-0700
TZOFFSETTO:-0800
TZNAME:PST
DTSTART:20251102T090000
END:STANDARD
BEGIN:DAYLIGHT
TZOFFSETFROM:-0800
TZOFFSETTO:-0700
TZNAME:PDT
DTSTART:20260308T100000
END:DAYLIGHT
BEGIN:STANDARD
TZOFFSETFROM:-0700
TZOFFSETTO:-0800
TZNAME:PST
DTSTART:20261101T090000
END:STANDARD
BEGIN:DAYLIGHT
TZOFFSETFROM:-0800
TZOFFSETTO:-0700
TZNAME:PDT
DTSTART:20270314T100000
END:DAYLIGHT
BEGIN:STANDARD
TZOFFSETFROM:-0700
TZOFFSETTO:-0800
TZNAME:PST
DTSTART:20271107T090000
END:STANDARD
END:VTIMEZONE
BEGIN:VEVENT
DTSTART;TZID=America/Los_Angeles:20260808T100000
DTEND;TZID=America/Los_Angeles:20260808T160000
DTSTAMP:20260421T052656
CREATED:20260331T204020Z
LAST-MODIFIED:20260331T204415Z
UID:10000186-1786183200-1786204800@america250wa.org
SUMMARY:Central Washington Agricultural Museum
DESCRIPTION:FREE ADMISSION
URL:https://america250wa.org/event/central-washington-agricultural-museum/
LOCATION:Central Washington Agricultural Museum\, 4508 Main Street\, Union Gap\, WA\, 98903\, United States
CATEGORIES:Community Gathering
GEO:46.5390246;-120.4854296
X-APPLE-STRUCTURED-LOCATION;VALUE=URI;X-ADDRESS=Central Washington Agricultural Museum 4508 Main Street Union Gap WA 98903 United States;X-APPLE-RADIUS=500;X-TITLE=4508 Main Street:geo:-120.4854296,46.5390246
END:VEVENT
END:VCALENDAR